BEGIN:VCALENDAR
VERSION:2.0
PRODID:spatie/icalendar-generator
DESCRIPTION:Events from Diary of an Ardent Fan
X-WR-CALDESC:Events from Diary of an Ardent Fan
REFRESH-INTERVAL;VALUE=DURATION:PT1440M
X-PUBLISHED-TTL:PT1440M
BEGIN:VTIMEZONE
TZID:Etc/GMT+5
BEGIN:STANDARD
DTSTART:20250808T000000Z
TZOFFSETFROM:-0500
TZOFFSETTO:-0500
END:STANDARD
END:VTIMEZONE
BEGIN:VTIMEZONE
TZID:UTC
BEGIN:STANDARD
DTSTART:20250728T134526Z
TZOFFSETFROM:+0000
TZOFFSETTO:+0000
END:STANDARD
END:VTIMEZONE
BEGIN:VEVENT
UID:254-252
DTSTAMP:20260424T134526Z
SUMMARY:Sepultura/Exodus/Biohazard/Tribal Gaze @Old Forester's Paristown Ha
 ll in Louisville\, KY
LOCATION:
ORGANIZER;CN=The Ardent Fan:MAILTO:diaryofanardentfan@gmail.com
DTSTART;TZID=Etc/GMT+5:20260505T000000
DTEND;TZID=Etc/GMT+5:20260505T010000
X-ALT-DESC;FMTTYPE=TEXT/HTML:
CATEGORIES:Concerts
URL;VALUE=URI:https://diaryofanardentfan.com/index.php/mc-events/sepultura-
 exodus-biohazard-tribal-gaze-old-foresters-paristown-hall-in-louisville-ky
 /
METHOD:PUBLISH
END:VEVENT
END:VCALENDAR