BEGIN:VCALENDAR
VERSION:2.0
PRODID:spatie/icalendar-generator
DESCRIPTION:Events from Diary of an Ardent Fan
X-WR-CALDESC:Events from Diary of an Ardent Fan
REFRESH-INTERVAL;VALUE=DURATION:PT1440M
X-PUBLISHED-TTL:PT1440M
BEGIN:VTIMEZONE
TZID:Etc/GMT+5
BEGIN:STANDARD
DTSTART:20251128T000000Z
TZOFFSETFROM:-0500
TZOFFSETTO:-0500
END:STANDARD
END:VTIMEZONE
BEGIN:VTIMEZONE
TZID:UTC
BEGIN:STANDARD
DTSTART:20250729T003054Z
TZOFFSETFROM:+0000
TZOFFSETTO:+0000
END:STANDARD
END:VTIMEZONE
BEGIN:VEVENT
UID:262-260
DTSTAMP:20260425T003054Z
SUMMARY:Motley Crue/Tesla/Extreme @Riverbend Music Center in Cincinnati\, O
 H
LOCATION:
ORGANIZER;CN=The Ardent Fan:MAILTO:diaryofanardentfan@gmail.com
DTSTART;TZID=Etc/GMT+5:20260825T000000
DTEND;TZID=Etc/GMT+5:20260825T010000
X-ALT-DESC;FMTTYPE=TEXT/HTML:
CATEGORIES:Concerts
URL;VALUE=URI:https://diaryofanardentfan.com/index.php/mc-events/motley-cru
 e-tesla-extreme-riverbend-music-center-in-cincinnati-oh/
METHOD:PUBLISH
END:VEVENT
END:VCALENDAR