BEGIN:VCALENDAR
VERSION:2.0
PRODID:spatie/icalendar-generator
DESCRIPTION:Events from Diary of an Ardent Fan
X-WR-CALDESC:Events from Diary of an Ardent Fan
REFRESH-INTERVAL;VALUE=DURATION:PT1440M
X-PUBLISHED-TTL:PT1440M
BEGIN:VTIMEZONE
TZID:Etc/GMT+5
BEGIN:STANDARD
DTSTART:20260109T000000Z
TZOFFSETFROM:-0500
TZOFFSETTO:-0500
END:STANDARD
END:VTIMEZONE
BEGIN:VTIMEZONE
TZID:UTC
BEGIN:STANDARD
DTSTART:20250729T015014Z
TZOFFSETFROM:+0000
TZOFFSETTO:+0000
END:STANDARD
END:VTIMEZONE
BEGIN:VEVENT
UID:263-261
DTSTAMP:20260425T015014Z
SUMMARY:Alice Cooper Devil On My Shoulder Book Release
LOCATION:
ORGANIZER;CN=The Ardent Fan:MAILTO:diaryofanardentfan@gmail.com
DTSTART;TZID=Etc/GMT+5;VALUE=DATE:20261006
DTEND;TZID=Etc/GMT+5;VALUE=DATE:20261007
X-ALT-DESC;FMTTYPE=TEXT/HTML:
CATEGORIES:Book Releases
URL;VALUE=URI:https://diaryofanardentfan.com/index.php/mc-events/alice-coop
 er-devil-on-my-shoulder-book-release/
METHOD:PUBLISH
END:VEVENT
END:VCALENDAR