BEGIN:VCALENDAR
VERSION:2.0
PRODID:spatie/icalendar-generator
DESCRIPTION:Events from Diary of an Ardent Fan
X-WR-CALDESC:Events from Diary of an Ardent Fan
REFRESH-INTERVAL;VALUE=DURATION:PT1440M
X-PUBLISHED-TTL:PT1440M
BEGIN:VTIMEZONE
TZID:Etc/GMT+5
BEGIN:STANDARD
DTSTART:20250610T000000Z
TZOFFSETFROM:-0500
TZOFFSETTO:-0500
END:STANDARD
END:VTIMEZONE
BEGIN:VTIMEZONE
TZID:UTC
BEGIN:STANDARD
DTSTART:20250728T151708Z
TZOFFSETFROM:+0000
TZOFFSETTO:+0000
END:STANDARD
END:VTIMEZONE
BEGIN:VEVENT
UID:250-248
DTSTAMP:20260424T151708Z
SUMMARY:Eddie Trunk Speaking Engagement/Q&amp;amp\;A @Tuck N Reds in Yellow Spr
 ings\, OH
LOCATION:
ORGANIZER;CN=The Ardent Fan:MAILTO:diaryofanardentfan@gmail.com
DTSTART;TZID=Etc/GMT+5;VALUE=DATE:20260307
DTEND;TZID=Etc/GMT+5;VALUE=DATE:20260308
X-ALT-DESC;FMTTYPE=TEXT/HTML:
CATEGORIES:Concerts
URL;VALUE=URI:https://diaryofanardentfan.com/index.php/mc-events/eddie-trun
 k-speaking-engagement-qa-tuck-n-reds-in-yellow-springs-oh/
METHOD:PUBLISH
END:VEVENT
END:VCALENDAR