BEGIN:VCALENDAR
VERSION:2.0
PRODID:spatie/icalendar-generator
DESCRIPTION:Events from Diary of an Ardent Fan
X-WR-CALDESC:Events from Diary of an Ardent Fan
REFRESH-INTERVAL;VALUE=DURATION:PT1440M
X-PUBLISHED-TTL:PT1440M
BEGIN:VTIMEZONE
TZID:Etc/GMT+5
BEGIN:STANDARD
DTSTART:20250901T000000Z
TZOFFSETFROM:-0500
TZOFFSETTO:-0500
END:STANDARD
END:VTIMEZONE
BEGIN:VTIMEZONE
TZID:UTC
BEGIN:STANDARD
DTSTART:20250728T150949Z
TZOFFSETFROM:+0000
TZOFFSETTO:+0000
END:STANDARD
END:VTIMEZONE
BEGIN:VEVENT
UID:256-254
DTSTAMP:20260424T150949Z
SUMMARY:Angel/Starz @The Winchester in Lakewood\, OH
LOCATION:
ORGANIZER;CN=The Ardent Fan:MAILTO:diaryofanardentfan@gmail.com
DTSTART;TZID=Etc/GMT+5:20260529T000000
DTEND;TZID=Etc/GMT+5:20260529T010000
X-ALT-DESC;FMTTYPE=TEXT/HTML:
CATEGORIES:Concerts
URL;VALUE=URI:https://diaryofanardentfan.com/index.php/mc-events/angel-star
 z-the-winchester-in-lakewood-oh/
METHOD:PUBLISH
END:VEVENT
END:VCALENDAR